BEGIN:VCALENDAR
VERSION:2.0
PRODID:-//Immaculate Heart of Mary - ECPv6.15.20//NONSGML v1.0//EN
CALSCALE:GREGORIAN
METHOD:PUBLISH
X-ORIGINAL-URL:https://ihmchurchlafayette.com
X-WR-CALDESC:Events for Immaculate Heart of Mary
REFRESH-INTERVAL;VALUE=DURATION:PT1H
X-Robots-Tag:noindex
X-PUBLISHED-TTL:PT1H
BEGIN:VTIMEZONE
TZID:UTC
BEGIN:STANDARD
TZOFFSETFROM:+0000
TZOFFSETTO:+0000
TZNAME:UTC
DTSTART:20230101T000000
END:STANDARD
END:VTIMEZONE
BEGIN:VEVENT
DTSTART;TZID=UTC:20241013T120000
DTEND;TZID=UTC:20241013T130000
DTSTAMP:20260420T133111
CREATED:20241012T142350Z
LAST-MODIFIED:20241012T142446Z
UID:1956-1728820800-1728824400@ihmchurchlafayette.com
SUMMARY:Yam Raffle Ticket!
DESCRIPTION:Join the Raffle after Sunday Mass and 11am. \nGet a chance to win some amazing prizes! Enter the Raffle Contest today and help support IHM’s Young Adult Ministry. 
URL:https://ihmchurchlafayette.com/event/yam-raffle-ticket/
LOCATION:Multipurpose Center\, 818 12th St.\, Lafayette\, LA\, 70501
CATEGORIES:IHM YAM
ATTACH;FMTTYPE=image/png:https://ihmchurchlafayette.com/wp-content/uploads/2024/10/IHM-YAM-Raffle-2024.png
END:VEVENT
END:VCALENDAR