BEGIN:VCALENDAR
VERSION:2.0
PRODID:-//Immaculate Heart of Mary - ECPv6.15.20//NONSGML v1.0//EN
CALSCALE:GREGORIAN
METHOD:PUBLISH
X-WR-CALNAME:Immaculate Heart of Mary
X-ORIGINAL-URL:https://ihmchurchlafayette.com
X-WR-CALDESC:Events for Immaculate Heart of Mary
REFRESH-INTERVAL;VALUE=DURATION:PT1H
X-Robots-Tag:noindex
X-PUBLISHED-TTL:PT1H
BEGIN:VTIMEZONE
TZID:UTC
BEGIN:STANDARD
TZOFFSETFROM:+0000
TZOFFSETTO:+0000
TZNAME:UTC
DTSTART:20230101T000000
END:STANDARD
END:VTIMEZONE
BEGIN:VEVENT
DTSTART;VALUE=DATE:20241128
DTEND;VALUE=DATE:20241130
DTSTAMP:20260422T230111
CREATED:20240814T134035Z
LAST-MODIFIED:20240814T134035Z
UID:1936-1732752000-1732924799@ihmchurchlafayette.com
SUMMARY:Office Closed
DESCRIPTION:Office is closed in observance of Thanksgiving holiday.
URL:https://ihmchurchlafayette.com/event/office-closed-5/
LOCATION:LA
END:VEVENT
END:VCALENDAR