BEGIN:VCALENDAR
VERSION:2.0
PRODID:-//Immaculate Heart of Mary - ECPv6.15.20//NONSGML v1.0//EN
CALSCALE:GREGORIAN
METHOD:PUBLISH
X-ORIGINAL-URL:https://ihmchurchlafayette.com
X-WR-CALDESC:Events for Immaculate Heart of Mary
REFRESH-INTERVAL;VALUE=DURATION:PT1H
X-Robots-Tag:noindex
X-PUBLISHED-TTL:PT1H
BEGIN:VTIMEZONE
TZID:UTC
BEGIN:STANDARD
TZOFFSETFROM:+0000
TZOFFSETTO:+0000
TZNAME:UTC
DTSTART:20240101T000000
END:STANDARD
END:VTIMEZONE
BEGIN:VEVENT
DTSTART;VALUE=DATE:20250512
DTEND;VALUE=DATE:20250517
DTSTAMP:20260422T175010
CREATED:20250401T184618Z
LAST-MODIFIED:20250401T185319Z
UID:2057-1747008000-1747439999@ihmchurchlafayette.com
SUMMARY:Daily Masses 6am & 6pm
DESCRIPTION:Join us for Daily Mass at Immaculate Heart of Mary Church\, where we gather in prayer\, reflection\, and the celebration of the Holy Eucharist. Strengthen your faith and deepen your relationship with Christ through the Liturgy of the Word and the Eucharist\, offered each day. \nMass Times: 6:00 AM 6:00 PM \n Location: 818 12th Street\, Lafayette\, LA 70501 \nAll are welcome to experience the grace and peace of the Lord in our daily worship!
URL:https://ihmchurchlafayette.com/event/daily-masses-6am-6pm-9/
LOCATION:IHM Church\, 818 12th Street\, Lafayette\, LA\, 70501\, United States
ATTACH;FMTTYPE=image/png:https://ihmchurchlafayette.com/wp-content/uploads/2025/03/Sunday-Mass-Catholic-Church-Facebook-Post.png
END:VEVENT
END:VCALENDAR