BEGIN:VCALENDAR
VERSION:2.0
PRODID:-//Immaculate Heart of Mary - ECPv6.15.20//NONSGML v1.0//EN
CALSCALE:GREGORIAN
METHOD:PUBLISH
X-ORIGINAL-URL:https://ihmchurchlafayette.com
X-WR-CALDESC:Events for Immaculate Heart of Mary
REFRESH-INTERVAL;VALUE=DURATION:PT1H
X-Robots-Tag:noindex
X-PUBLISHED-TTL:PT1H
BEGIN:VTIMEZONE
TZID:UTC
BEGIN:STANDARD
TZOFFSETFROM:+0000
TZOFFSETTO:+0000
TZNAME:UTC
DTSTART:20250101T000000
END:STANDARD
END:VTIMEZONE
BEGIN:VEVENT
DTSTART;TZID=UTC:20260621T110000
DTEND;TZID=UTC:20260621T123000
DTSTAMP:20260424T012244
CREATED:20260411T005621Z
LAST-MODIFIED:20260411T005621Z
UID:2129-1782039600-1782045000@ihmchurchlafayette.com
SUMMARY:Fr. Anthony "Tony" Anala\, SVD Memorial Mass at 11:00 am
DESCRIPTION:Join us for a Memorial Mass in honor of Fr. Anthony Anala\, SVD\, as we gather in prayer to remember his life\, faith\, and service to our community. All are invited to come together in remembrance and thanksgiving for his ministry.
URL:https://ihmchurchlafayette.com/event/fr-anthony-tony-anala-svd-memorial-mass-at-1100-am/
LOCATION:LA
ATTACH;FMTTYPE=image/png:https://ihmchurchlafayette.com/wp-content/uploads/2023/07/Screenshot-2023-07-06-at-9.19.14-PM.png
END:VEVENT
END:VCALENDAR