BEGIN:VCALENDAR
VERSION:2.0
PRODID:-//Immaculate Heart of Mary - ECPv6.15.20//NONSGML v1.0//EN
CALSCALE:GREGORIAN
METHOD:PUBLISH
X-ORIGINAL-URL:https://ihmchurchlafayette.com
X-WR-CALDESC:Events for Immaculate Heart of Mary
REFRESH-INTERVAL;VALUE=DURATION:PT1H
X-Robots-Tag:noindex
X-PUBLISHED-TTL:PT1H
BEGIN:VTIMEZONE
TZID:UTC
BEGIN:STANDARD
TZOFFSETFROM:+0000
TZOFFSETTO:+0000
TZNAME:UTC
DTSTART:20180101T000000
END:STANDARD
END:VTIMEZONE
BEGIN:VEVENT
DTSTART;TZID=UTC:20190720T100000
DTEND;TZID=UTC:20190720T120000
DTSTAMP:20260423T154428
CREATED:20190702T170345Z
LAST-MODIFIED:20190705T122034Z
UID:1198-1563616800-1563624000@ihmchurchlafayette.com
SUMMARY:CAREER CONNECTIONS
DESCRIPTION:ECONOMIC EMPOWERMENT THROUGH FINANCIAL LITERACY\n-Decision-Making\n-Financial Literacy Programs\n-Empowerment\n-Leadership \nThrough this multi-faceted enrichment program\, we plan to ignite a sense of purpose and empower the youth to grow and shape their leadership skills that enable them to achieve excellence. \nFREE EVENT OPEN TO 7th to 10th GRADE STUDENTS AND PARENTS.\nREGISTER HERE
URL:https://ihmchurchlafayette.com/event/career-connections/
LOCATION:IHM Gym\, 818 12th St.\, Lafayette\, LA\, 70501
CATEGORIES:Career Connection
END:VEVENT
END:VCALENDAR