BEGIN:VCALENDAR
VERSION:2.0
PRODID:-//Immaculate Heart of Mary - ECPv6.15.20//NONSGML v1.0//EN
CALSCALE:GREGORIAN
METHOD:PUBLISH
X-ORIGINAL-URL:https://ihmchurchlafayette.com
X-WR-CALDESC:Events for Immaculate Heart of Mary
REFRESH-INTERVAL;VALUE=DURATION:PT1H
X-Robots-Tag:noindex
X-PUBLISHED-TTL:PT1H
BEGIN:VTIMEZONE
TZID:UTC
BEGIN:STANDARD
TZOFFSETFROM:+0000
TZOFFSETTO:+0000
TZNAME:UTC
DTSTART:20240101T000000
END:STANDARD
END:VTIMEZONE
BEGIN:VEVENT
DTSTART;TZID=UTC:20250418T150000
DTEND;TZID=UTC:20250418T160000
DTSTAMP:20260420T213246
CREATED:20250307T153506Z
LAST-MODIFIED:20250411T170245Z
UID:2000-1744988400-1744992000@ihmchurchlafayette.com
SUMMARY:Good Friday Service
DESCRIPTION:Good Friday – The Passion of the Lord \nJoin us on Good Friday as we solemnly commemorate the Passion and Death of Jesus Christ. This sacred day is a time of deep reflection\, prayer\, and reverence\, as we recall Christ’s ultimate sacrifice for our salvation. \nThe liturgy includes the Liturgy of the Word\, the Veneration of the Cross\, and Holy Communion\, inviting us to meditate on the suffering and love of our Savior. The church remains in solemn silence\, awaiting the joy of the Resurrection. \nAll are welcome to gather in prayer and contemplation on this most solemn day of the Church year.
URL:https://ihmchurchlafayette.com/event/good-friday-service/
LOCATION:IHM Church\, 818 12th Street\, Lafayette\, LA\, 70501\, United States
CATEGORIES:IHM Church
ATTACH;FMTTYPE=image/webp:https://ihmchurchlafayette.com/wp-content/uploads/2025/03/good-friday.webp
END:VEVENT
END:VCALENDAR