BEGIN:VCALENDAR
VERSION:2.0
PRODID:-//Immaculate Heart of Mary - ECPv6.15.20//NONSGML v1.0//EN
CALSCALE:GREGORIAN
METHOD:PUBLISH
X-WR-CALNAME:Immaculate Heart of Mary
X-ORIGINAL-URL:https://ihmchurchlafayette.com
X-WR-CALDESC:Events for Immaculate Heart of Mary
REFRESH-INTERVAL;VALUE=DURATION:PT1H
X-Robots-Tag:noindex
X-PUBLISHED-TTL:PT1H
BEGIN:VTIMEZONE
TZID:UTC
BEGIN:STANDARD
TZOFFSETFROM:+0000
TZOFFSETTO:+0000
TZNAME:UTC
DTSTART:20250101T000000
END:STANDARD
END:VTIMEZONE
BEGIN:VEVENT
DTSTART;VALUE=DATE:20260919
DTEND;VALUE=DATE:20260920
DTSTAMP:20260421T172225
CREATED:20260411T024643Z
LAST-MODIFIED:20260411T024643Z
UID:2147-1789776000-1789862399@ihmchurchlafayette.com
SUMMARY:Safe Environment Training - Grades 1st - 4th
DESCRIPTION:Join us for Safe Environment Training on September 19\, 2026 in the Multipurpose Center. Students in 1st through 4th grade\, along with their parents\, are invited to attend this important session focused on safety\, awareness\, and creating a secure environment for all.
URL:https://ihmchurchlafayette.com/event/safe-environment-training-grades-1st-4th/
LOCATION:Multipurpose Center\, 818 12th St.\, Lafayette\, LA\, 70501
CATEGORIES:CCD Classes / Faith Formation,IHM Church
ATTACH;FMTTYPE=image/jpeg:https://ihmchurchlafayette.com/wp-content/uploads/2026/04/safe_environment2.jpg
END:VEVENT
END:VCALENDAR