BEGIN:VCALENDAR
VERSION:2.0
PRODID:-//Immaculate Heart of Mary - ECPv6.15.20//NONSGML v1.0//EN
CALSCALE:GREGORIAN
METHOD:PUBLISH
X-WR-CALNAME:Immaculate Heart of Mary
X-ORIGINAL-URL:https://ihmchurchlafayette.com
X-WR-CALDESC:Events for Immaculate Heart of Mary
REFRESH-INTERVAL;VALUE=DURATION:PT1H
X-Robots-Tag:noindex
X-PUBLISHED-TTL:PT1H
BEGIN:VTIMEZONE
TZID:UTC
BEGIN:STANDARD
TZOFFSETFROM:+0000
TZOFFSETTO:+0000
TZNAME:UTC
DTSTART:20250101T000000
END:STANDARD
END:VTIMEZONE
BEGIN:VEVENT
DTSTART;TZID=UTC:20260503T090000
DTEND;TZID=UTC:20260503T100000
DTSTAMP:20260421T183721
CREATED:20260411T001826Z
LAST-MODIFIED:20260411T002836Z
UID:2122-1777798800-1777802400@ihmchurchlafayette.com
SUMMARY:May Crowning 9:00 am Mass
DESCRIPTION:Join us for a beautiful May Crowning at the 9:00 AM Mass as we honor the Blessed Virgin Mary. Youth are especially invited to participate by bringing flowers to place at the feet of Mother Mary in this special act of love and devotion.
URL:https://ihmchurchlafayette.com/event/may-crowning/
LOCATION:IHM Church\, 818 12th Street\, Lafayette\, LA\, 70501\, United States
CATEGORIES:IHM Youth Ministry
ATTACH;FMTTYPE=image/jpeg:https://ihmchurchlafayette.com/wp-content/uploads/2026/04/MayCrowningEMC.jpg
ORGANIZER;CN="IHM Youth Ministry":MAILTO:337ihmyouthministryteam@gmail.com
END:VEVENT
BEGIN:VEVENT
DTSTART;TZID=UTC:20261031T170000
DTEND;TZID=UTC:20261031T200000
DTSTAMP:20260421T183721
CREATED:20260411T013123Z
LAST-MODIFIED:20260411T013123Z
UID:2132-1793466000-1793476800@ihmchurchlafayette.com
SUMMARY:Youth Ministry Glow Night
DESCRIPTION:Join us for a fun and faith-filled Youth Ministry Glow Night on October 31! Youth are invited to dress as their favorite saint and enjoy an evening of glow-in-the-dark fun\, fellowship\, and celebration. It’s a unique way to shine a light on the lives of the saints while enjoying vibrant\, uplifting vibes with friends.
URL:https://ihmchurchlafayette.com/event/youth-ministry-glow-night/
LOCATION:Multipurpose Center\, 818 12th St.\, Lafayette\, LA\, 70501
CATEGORIES:IHM Youth Ministry
ORGANIZER;CN="IHM Youth Ministry":MAILTO:337ihmyouthministryteam@gmail.com
END:VEVENT
END:VCALENDAR